BEGIN:VCALENDAR
VERSION:2.0
PRODID:-//hacksw/handcal//NONSGML v1.0//EN
BEGIN:VEVENT
SUMMARY:CM ISSF Cible Grenade 2026
UID:63297aa4-0415-4f3a-82d2-62d8d92bbfe2
DTSTART:20260404T220000Z
DTEND:20260413T220000Z
LOCATION:Localisation   
CATEGORIES:Sportif
STATUS:
DESCRIPTION:<p><span style="font-size:16px;"><a
 href="https://www.fftir.org/competitions/cm-issf-cible-grenade-2026"
 target="_blank" rel="noreferrer noopener">CM ISSF Cible Grenade 2026
 (Resultats)</a></span></p>
URL;VALUE=URI:https://www.asdeols-tir.com/evenements/2026/04/05/cm-issf-cible-grenade-2026-2438510
END:VEVENT
END:VCALENDAR
